BEGIN:VCALENDAR
VERSION:2.0
PRODID:-//Contratero//ES
CALSCALE:GREGORIAN
METHOD:PUBLISH
BEGIN:VEVENT
UID:SSCC PA 220/21@contratero.es
DTSTAMP:20260422T024557Z
DTSTART:20210906T235959
DTEND:20210907T005959
SUMMARY:Cierre: Contrato mixto de adquisición y ampliación de la i
DESCRIPTION:Contrato mixto de adquisición y ampliación de la infraestructura del proyecto SISN2+\\n\\nOrganismo: Servicio de Salud de las Illes Balears\\n\\nVer en Contratero: https://contratero.es/contracts/SSCC PA 220/21
URL:https://contratero.es/contracts/SSCC PA 220/21
STATUS:CONFIRMED
BEGIN:VALARM
TRIGGER:-P1D
ACTION:DISPLAY
DESCRIPTION:Recordatorio: Contrato mixto de adquisición 
END:VALARM
END:VEVENT
END:VCALENDAR